BEGIN:VCALENDAR
VERSION:2.0
METHOD:PUBLISH
BEGIN:VEVENT
UID:WILD_APRICOT_EVENT_3289104_SESSION_1
DTSTART:20190329T230000Z
DTEND:20190330T030000Z
SUMMARY:Hobart Language Day
LOCATION:Parliament Lawns\, 1 Salamanca Pl\, Hobart 7000
DESCRIPTION:https://www.ajstas.org.au/event-3289104\n\nA celebration of languages diversity in Tasmania. This year a special celebration of indigenous languages during the International year of Indigenous Languages! All languages are welcome!\n  For further information\, please visit the Facebook event page.\n
DTSTAMP:20260424T174932Z
END:VEVENT
END:VCALENDAR
