BEGIN:VCALENDAR
VERSION:2.0
METHOD:PUBLISH
BEGIN:VEVENT
UID:WILD_APRICOT_EVENT_3289079_SESSION_1
DTSTART:20190222T050000Z
DTEND:20190222T050000Z
SUMMARY:Koto & Harp Joint Concert
LOCATION:Bridestowe Lavender Estate\, 296 Gilespies Road\, Nabowla 7260
DESCRIPTION:https://www.ajstas.org.au/event-3289079\n\nBridestowe Estate welcomes Etsuko Sakai for her third concert\, and tenth visit to Tasmania. Please join us at Bridestowe Estate and be captivated by her lovely music. Etsuko will perform with her Koto\, a Traditional Japanese 13 string harp\, on Friday 22nd February. Performance commencing at 4pm.\n  Launceston harpist\, Emily Sanzaro will also be joining Etsuko to deliver a unique performance.\n  An entry fee of $25.00 per adult will apply. Entry includes light refreshments and a glass of sparkling wine.\n  For bookings\, please contact Reception on 03 6352 8182.\n
DTSTAMP:20260424T175124Z
END:VEVENT
END:VCALENDAR
