BEGIN:VCALENDAR
VERSION:2.0
METHOD:PUBLISH
BEGIN:VEVENT
UID:WILD_APRICOT_EVENT_3289076_SESSION_1
DTSTART:20190329T000000Z
DTEND:20190414T070000Z
SUMMARY:Kyoto to nipaluna (Hobart) – Water\, Fire\, Earth and Nature
LOCATION:Schoolhouse Gallery\, Rosny Farm\, Rosny Hill Road\, Rosny 7018
DESCRIPTION:https://www.ajstas.org.au/event-3289076\n\nArtists: Aoi Kusudo\, Richard Clements\, Jemma Clements & Linda Chee\n  Aoi Kusudo is from Kyoto\, Japan’s most traditional city. Aoi produces beautiful and whimsical illustrations using the ancient technique Tarashikomi (meaning “dripping in”) in a contemporary way.  Since visiting Tasmania in 2018\, Aoi has begun to collaborate with Tasmanian artists who are\, like her\, working with the great power of Nature: Water\, Fire\, Earth and Native Plants.\n  Featuring the work of Richard Clements and Jemma Clements (Fire and Earth – glass artists)\, and Linda Chee (Fire\, Water and Native Plants – Eco Natural Dyer).\n  Public program:\n  Artist Talk with Aoi Kusudo and Linda Chee\n Wednesday 3rd April at 6pm\, Schoolhouse Gallery (Free Entry)\n  Watercolour Workshop with Aoi Kusudo\n Saturday 6th April 12-4pm\, The Rosny Farm Cottage ($40\, Materials Supplied)\n  In this workshop Aoi will work with you to create water colours in the traditional Japanese technique\, from start to finish. As the technique usually requires a week to dry between stages\, some paintings will be provided to work from for the final stage. All materials and paper will be supplied.\n  For further information\, and to book tockets for the watercolour workshop\, please visit the Clarence Arts and Events website.\n
DTSTAMP:20260424T174813Z
END:VEVENT
END:VCALENDAR
