BEGIN:VCALENDAR
VERSION:2.0
METHOD:PUBLISH
BEGIN:VEVENT
UID:WILD_APRICOT_EVENT_3289073_SESSION_1
DTSTART:20190315T080000Z
DTEND:20190315T100000Z
SUMMARY:Taiko Drum presents Wa-no-Hibiki
LOCATION:Rosny College Auditorium\, 20 Bastick St\, Rosny 7018
DESCRIPTION:https://www.ajstas.org.au/event-3289073\n\nCome and enjoy a Taiko spectacular as professional Japanese Taiko masters Makoto Sekine and Morimitsu perform along with their group Wa-no-Oto Ichiza MEDETAI.\n  Supported by Hobart's own Taiko Drum and the Rosny College Kizuna Taiko Drumming group\, this is a show not to be missed!\n  Visit the Facebook event page for further information\, or purchase tickets here.\n
DTSTAMP:20260424T162837Z
END:VEVENT
END:VCALENDAR
