BEGIN:VCALENDAR
VERSION:2.0
METHOD:PUBLISH
BEGIN:VEVENT
UID:WILD_APRICOT_EVENT_3282826_SESSION_1
DTSTART:20190227T073000Z
DTEND:20190227T100000Z
SUMMARY:Social dinner at Panko Chan
LOCATION:Panko Chan\, 23 Beach Road\, Kingston Beach\, Tasmania 7050
DESCRIPTION:https://www.ajstas.org.au/event-3282826\n\nMembers and friends are invited to join us for a social dinner at Panko Chan\, a new Japanese-inspired seafood restaurant at Kingston Beach.\n  Panko Chan serves fish and chips by day\, and Japas (Japanese tapas) by night. For this event\, we'll be enjoying the following menu: \n  Starters\n      * Edamame\n\n        * House pickles\n\n        * Yuzu cured Sashimi Salmon\n\n  Mains\n      * Chicken Karaage\n\n        * Pankochan's Flavoured Fish and mixed chips basket\n\n        * Served with House salad\n\n  All dishes will be served as share plates. Drinks will also be available to purchase from a wide-ranging menu that includes everything from sake to guest beers and cocktails to mocktails.\n  The cost for this event is just $32 per person (members) / $37 per person (non-members). If you wish to attend\, please ensure that you register and pay by 12 noon on Monday 25 February.\n  We look forward to seeing you there!\n
DTSTAMP:20260424T165333Z
END:VEVENT
END:VCALENDAR
