BEGIN:VCALENDAR
VERSION:2.0
METHOD:PUBLISH
BEGIN:VEVENT
UID:WILD_APRICOT_EVENT_3230418_SESSION_1
DTSTART:20190105T030000Z
DTEND:20190105T050000Z
SUMMARY:Language exchange at the State
LOCATION:State Cinema\, 375 Elizabeth Street\, North Hobart
DESCRIPTION:https://www.ajstas.org.au/event-3230418\n\nLet's enjoy some relaxed conversation in Japanese and English. All levels of Japanese and English competency are welcome\, whether you are fluent or can only speak a few words.\n\n  We'll be in the cafe on the ground floor. Look for a Japanese flag on the table! If you can't find us\, please ask at the bar.\n  No RSVP required\, but you can register for this event via Facebook or Meetup if you wish.\n
DTSTAMP:20260424T162911Z
END:VEVENT
END:VCALENDAR
