BEGIN:VCALENDAR
VERSION:2.0
METHOD:PUBLISH
BEGIN:VEVENT
UID:WILD_APRICOT_EVENT_3230390_SESSION_1
DTSTART:20190116T073000Z
DTEND:20190116T093000Z
SUMMARY:Language exchange in the pub
LOCATION:New Sydney Hotel\, 87 Bathurst Street\, Hobart
DESCRIPTION:https://www.ajstas.org.au/event-3230390\n\nLet's enjoy some relaxed conversation in Japanese and English. All levels of Japanese and English competency are welcome\, whether you are fluent or can only speak a few words.\n\n  We'll probably be upstairs. Look for a Japanese flag on the table! If you can't find us\, please ask at the bar.\n\n  No RSVP required\, but you can register for this event via Facebook or Meetup if you wish.\n
DTSTAMP:20260424T164137Z
END:VEVENT
END:VCALENDAR
