BEGIN:VCALENDAR
VERSION:2.0
METHOD:PUBLISH
BEGIN:VEVENT
UID:WILD_APRICOT_EVENT_3031734_SESSION_1
DTSTART:20190307T130000Z
DTEND:20190311T130000Z
SUMMARY:Island Taiko Gathering 2019
LOCATION:Bicheno\, Tasmania
DESCRIPTION:https://www.ajstas.org.au/event-3031734\n\n\n\n  In 2019 the Island Taiko Gathering will take place in the beautiful seaside town of Bicheno on Tasmania’s east coast.\n  Keep your eyes on the Facebook page for more details as they become available. And don't forget to book your accommodation early to avoid disappointment (there’s a harp convention on in town the same weekend!).\n  \n\n
DTSTAMP:20260424T162906Z
END:VEVENT
END:VCALENDAR
